Workbook

Sheet Cover Sheet
A7: KENTUCKY
E9: 2026 CAPITALIZATION RATE STUDY
A16: =+'S&D'!A12 -> Electric Wholesale (non-regulated) Power Generator
A34: #VALUE!

Sheet Yield CapRate
A1: KENTUCKY DEPARTMENT OF REVENUE
A2: DIVISION OF STATE VALUATION, PUBLIC SERVICE BRANCH
A3: 2026 Tax Year
D10: YIELD CAPITALIZATION RATE CONCLUSION
D16: =+'S&D'!A12 -> Electric Wholesale (non-regulated) Power Generator
B19: Source of | C19: Capital | D19: Cost of Capital | E19: Marginal | F19: Cost of Capital | G19: Weighted
B20: Capital | C20: Structure | D20: Rate | E20: Tax Rate | F20: After Tax | G20: Cost
B23: EQUITY | C23: ='S&D'!J50 -> 0.62 | D23: =+'Indicated Yield Equity Rate '!D52 -> 0.1056 | F23: =+D23 -> 0.1056 | G23: =+F23*C23 -> 0.065472
B25: DEBT | C25: ='S&D'!K50 -> 0.38 | D25: =+Debt!J29 -> 0.0654 | E25: 0.26 | F25: =+D25*(1-E25) -> 0.048396 | G25: =+C25*F25 -> 0.01839048
B27: WACC | C27: =+C23+C25 -> 1 | G27: =+G23+G25 -> 0.08386248
F29: Selected | G29: 0.0839

Sheet Direct CapRates
A1: KENTUCKY DEPARTMENT OF REVENUE
A2: DIVISION OF STATE VALUATION, PUBLIC SERVICE BRANCH
A3: 2026 Tax Year
D11: DIRECT CAPITALIZATION RATE CONCLUSION
D15: =+'S&D'!A12 -> Electric Wholesale (non-regulated) Power Generator
D16: NOI After Tax (NOPAT)
B19: Source of | C19: Capital | D19: Capitalization | E19: Marginal | F19: Capitalization Rate | G19: Weighted
B20: Capital | C20: Structure | D20: Rate | E20: Tax Rate | F20: After Tax | G20: CAP RATE
B23: EQUITY | C23: ='S&D'!J50 -> 0.62 | D23: =+'Direct NOPAT'!J33 -> 0.0778 | F23: =+D23 -> 0.0778 | G23: =+F23*C23 -> 0.048236
B25: DEBT | C25: ='S&D'!K50 -> 0.38 | D25: =+Debt!J29 -> 0.0654 | E25: 0.26 | F25: =+D25*(1-E25) -> 0.048396 | G25: =+C25*F25 -> 0.01839048
B27: TOTAL | C27: =+C23+C25 -> 1 | G27: =+G23+G25 -> 0.06662648
F29: Selected | G29: 0.0666
F31: Multiplier | G31: =1/G29 -> 15.015015
A34: KENTUCKY DEPARTMENT OF REVENUE
A35: DIVISION OF STATE VALUATION, PUBLIC SERVICE BRANCH
A36: 2026 Tax Year
D44: DIRECT CAPITALIZATION RATE CONCLUSION
D48: =+'S&D'!A12 -> Electric Wholesale (non-regulated) Power Generator
D49: GCF After Tax
B52: Source of | C52: Capital | D52: Capitalization | E52: Marginal | F52: Capitalization Rate | G52: Weighted
B53: Capital | C53: Structure | D53: Rate | E53: Tax Rate | F53: After Tax | G53: CAP RATE
B56: EQUITY | C56: ='S&D'!J50 -> 0.62 | D56: =+'Direct GCF'!M32 -> 0.15 | F56: =+D56 -> 0.15 | G56: =+F56*C56 -> 0.093
B58: DEBT | C58: ='S&D'!K50 -> 0.38 | D58: =+Debt!J29 -> 0.0654 | E58: 0.26 | F58: =+D58*(1-E58) -> 0.048396 | G58: =+C58*F58 -> 0.01839048
B60: TOTAL | C60: =+C56+C58 -> 1 | G60: =+G56+G58 -> 0.11139048
F62: Selected | G62: 0.1114
F64: Multiplier | G64: =1/G62 -> 8.9766607

Sheet S&D
A1: KENTUCKY DEPARTMENT OF REVENUE
A2: DIVISION OF STATE VALUATION, PUBLIC SERVICE BRANCH
A3: 2026 Tax Year
A12: Electric Wholesale (non-regulated) Power Generator | F12: CAPITAL STRUCTURE
F13: YEAR END 12/31/2025
D16: 4th Qtr | E16: 4th Qtr | F16: 4th Qtr | G16: Year End | H16: Dec. 31, 2025 | I16: Dec. 31, 2025 | J16: Dec. 31, 2025
B17: Ticker | C17: Industry | D17: Stock Price | E17: Stock Price | F17: Average | G17: Dec. 31, 2025 | H17: Common Stock | I17: Preferred Stock | J17: Long Term Debt **
A18: Company | B18: Symbol | C18: Group | D18: High | E18: Low | F18: Stock Price | G18: Stock Price | H18: Shares Outstanding * | J18: Finance Leases
H19: Shares Issued less Treasury | I19: Book Value | J19: Book Value
A20: VL | B20: VL | C20: VL | D20: VL | E20: VL | F20: Calculated | G20: VL | H20: 10K / SEC | I20: 10K / SEC | J20: 10K / SEC
A22: AES CORPORATION | B22: AES | C22: Power Electric | D22: 12.68 | E22: 7.64 | F22: =AVERAGE(D22,E22) -> 10.16 | G22: 9.42 | H22: 712201777 | J22: =5105000000+21681000000+879000000+2223000000 -> 29888000000
A23: DOMINION ENERGY INC | B23: D | C23: Electric - East | D23: 62.87 | E23: 55.18 | F23: =AVERAGE(D23,E23) -> 59.025 | G23: 58.59 | H23: 879000000 | I23: 991000000 | J23: =36778000000 -> 36778000000
A24: CONSTELLATION ENERGY GENERATION LLC | B24: CEG | C24: Power Electric | D24: 412.7 | E24: 326.83 | F24: =AVERAGE(D24,E24) -> 369.765 | G24: 353.27 | H24: 312000000 | J24: =92000000+7250000000 -> 7342000000
A25: NEXTERA ENERGY INC | B25: NEE | C25: Electric - East | D25: 87.53 | E25: 79.5 | F25: =AVERAGE(D25,E25) -> 83.515 | G25: 80.28 | H25: 2057000000 | J25: =72385000000+8061000000 -> 80446000000
A26: NRG ENERGY | B26: NRG | C26: Power Electric | D26: 180.54 | E26: 141.91 | F26: =AVERAGE(D26,E26) -> 161.225 | G26: 159.24 | H26: 190376607 | I26: 650000000 | J26: =16412000000+31000000 -> 16443000000
A27: SOUTHERN COMPANY | B27: SO | C27: Electric - East | D27: 100.84 | E27: 83.8 | F27: =AVERAGE(D27,E27) -> 92.32 | G27: 87.2 | H27: =1100000000-1000000 -> 1099000000 | J27: =65649000000 -> 65649000000
A28: VISTRA ENERGY CORPORATION | B28: VST | C28: Power Electric | D28: 217.1 | E28: 158.65 | F28: =AVERAGE(D28,E28) -> 187.875 | G28: 161.33 | H28: 338059635 | I28: 2476000000 | J28: =1201000000+15842000000 -> 17043000000
D33: Dec. 31, 2025 | E33: Dec. 31, 2025 | F33: Dec. 31, 2025 | G33: Dec. 31, 2025 | H33: Dec. 31, 2025 | I33: Dec. 31, 2025 | J33: Dec. 31, 2025 | K33: Dec. 31, 2025
B34: Ticker | C34: Industry | D34: Common Stock | E34: Preferred Stock *** | F34: Operating Leases **** | G34: Finance Leases **** | H34: Long Term Debt | I34: Total Market Value | J34: % Common Stock | K34: % LT Debt & Pref Stock
A35: Company | B35: Symbol | C35: Group | D35: FMV | E35: FMV | F35: FMV / PV | G35: FMV / PV | H35: FMV | I35: CS+PS+OL+FL+LTD | K35: & Leases
A36: VL | B36: VL | C36: VL | D36: Calculated | E36: 10K / SEC | F36: 10K / SEC | G36: 10K / SEC | H36: 10K / SEC | I36: Calculated | J36: Calculated | K36: Calculated
A38: =+A22 -> AES CORPORATION | B38: =+B22 -> AES | C38: =+C22 -> Power Electric | D38: =(+H22)*G22 -> 6.7089407e+09 | E38: =(1/1)*I22 -> 0 | F38: 1165000000 | G38: 735000000 | H38: =((23066+4538)/(22743+5704))*J22 -> 2.9002297e+10 | I38: =+D38+E38+F38+G38+H38 -> 3.7611238e+10 | J38: =(+D38)/I38 -> 0.17837596 | K38: =(+E38+F38+G38+H38)/I38 -> 0.82162404
A39: =+A23 -> DOMINION ENERGY INC | B39: =+B23 -> D | C39: =+C23 -> Electric - East | D39: =(+H23)*G23 -> 51500610000 | E39: =(194.8/200)*I23 -> 9.65234e+08 | F39: =39000000+697000000 -> 736000000 | G39: =119000000+436000000 -> 555000000 | H39: =(37481/38897)*J23 -> 3.543914e+10 | I39: =+D39+E39+F39+G39+H39 -> 8.9195984e+10 | J39: =(+D39)/I39 -> 0.5773871 | K39: =(+E39+F39+G39+H39)/I39 -> 0.4226129
A40: =+A24 -> CONSTELLATION ENERGY GENERATION LLC | B40: =+B24 -> CEG | C40: =+C24 -> Power Electric | D40: =(+H24)*G24 -> 110220240000 | E40: =(1/1)*I24 -> 0 | F40: 505000000 | H40: =(7661/7342)*J24 -> 7661000000 | I40: =+D40+E40+F40+G40+H40 -> 118386240000 | J40: =(+D40)/I40 -> 0.93102239 | K40: =(+E40+F40+G40+H40)/I40 -> 0.068977611
A41: =+A25 -> NEXTERA ENERGY INC | B41: =+B25 -> NEE | C41: =+C25 -> Electric - East | D41: =(+H25)*G25 -> 165135960000 | E41: =(1/1)*I25 -> 0 | F41: 372000000 | H41: =(76428/80446)*J25 -> 76428000000 | I41: =+D41+E41+F41+G41+H41 -> 241935960000 | J41: =(+D41)/I41 -> 0.68256062 | K41: =(+E41+F41+G41+H41)/I41 -> 0.31743938
A42: =+A26 -> NRG ENERGY | B42: =+B26 -> NRG | C42: =+C26 -> Power Electric | D42: =(+H26)*G26 -> 3.0315571e+10 | E42: =(1/1)*I26 -> 650000000 | F42: =35000000+144000000 -> 179000000 | H42: =(16405/16565)*J26 -> 1.6284178e+10 | I42: =+D42+E42+F42+G42+H42 -> 4.7428749e+10 | J42: =(+D42)/I42 -> 0.63918133 | K42: =(+E42+F42+G42+H42)/I42 -> 0.36081867
A43: =+A27 -> SOUTHERN COMPANY | B43: =+B27 -> SO | C43: =+C27 -> Electric - East | D43: =(+H27)*G27 -> 95832800000 | E43: =(1/1)*I27 -> 0 | F43: 1484000000 | G43: 768000000 | H43: =(57.7/63.2)*J27 -> 59935875000 | I43: =+D43+E43+F43+G43+H43 -> 158020675000 | J43: =(+D43)/I43 -> 0.60645735 | K43: =(+E43+F43+G43+H43)/I43 -> 0.39354265
A44: =+A28 -> VISTRA ENERGY CORPORATION | B44: =+B28 -> VST | C44: =+C28 -> Power Electric | D44: =(+H28)*G28 -> 5.4539161e+10 | E44: =(1/1)*I28 -> 2476000000 | F44: 92000000 | G44: 4000000 | H44: =(2459/2417)*J28 -> 1.7339155e+10 | I44: =+D44+E44+F44+G44+H44 -> 7.4450316e+10 | J44: =(+D44)/I44 -> 0.73255782 | K44: =(+E44+F44+G44+H44)/I44 -> 0.26744218
I45: High | J45: 0.8123 | K45: 0.6796
I46: Low | J46: 0.3204 | K46: 0.1877
I47: Median | J47: =MEDIAN(J38:J44) -> 0.63918133 | K47: =MEDIAN(K38:K44) -> 0.36081867
I48: Mean | J48: =AVERAGE(J38:J44) -> 0.62107751 | K48: =AVERAGE(K38:K44) -> 0.37892249
I50: Selected > | J50: 0.62 | K50: 0.38
A54: Notes:
A55: The capital structure of this industry is a representative or typical capital structure of the group, not that of the present owner. The capital structure selected reflects the most likely arrangement of a prospective buyer.
A56: * Outstanding stock shares are generally already net of Treasury stock shares
A57: ** Debt includes LT Debt and Current portion of LT Debt. It may include finance leases (if combined) from 10K. If not combined, enter separately.
A58: *** Market value of preferred stock assumed to equal book value
A59: **** Market value of operating leases and finance leases for all companies @ FMV
A62: Companies selected in the study >
...

Sheet Market to Book Ratios
A1: KENTUCKY DEPARTMENT OF REVENUE
A2: DIVISION OF STATE VALUATION, PUBLIC SERVICE BRANCH
A3: 2026 Tax Year
A9: =+'S&D'!A12 -> Electric Wholesale (non-regulated) Power Generator | E9: Market to Book Ratios - Obsolescence Measurement
E10: YEAR END 12/31/2025
B17: Ticker | C17: Industry | D17: Market Value | E17: Book Value | F17: Market to
B18: Symbol | C18: Group | D18: Common Total Equity | E18: Common Total Equity | F18: Book Ratio
A19: Company
A20: VL | B20: VL | C20: VL | D20: VL | E20: 10K
A22: =+'S&D'!A22 -> AES CORPORATION | B22: =+'S&D'!B22 -> AES | C22: =+'S&D'!C22 -> Power Electric | D22: =+'S&D'!D38 -> 6.7089407e+09 | E22: 4063000000 | F22: =+D22/E22 -> 1.6512283
A23: =+'S&D'!A23 -> DOMINION ENERGY INC | B23: =+'S&D'!B23 -> D | C23: =+'S&D'!C23 -> Electric - East | D23: =+'S&D'!D39 -> 51500610000 | E23: 27205000000 | F23: =+D23/E23 -> 1.8930568
A24: =+'S&D'!A24 -> CONSTELLATION ENERGY GENERATION LLC | B24: =+'S&D'!B24 -> CEG | C24: =+'S&D'!C24 -> Power Electric | D24: =+'S&D'!D40 -> 110220240000 | E24: 14527000000 | F24: =+D24/E24 -> 7.5872678
A25: =+'S&D'!A25 -> NEXTERA ENERGY INC | B25: =+'S&D'!B25 -> NEE | C25: =+'S&D'!C25 -> Electric - East | D25: =+'S&D'!D41 -> 165135960000 | E25: 50101000000 | F25: =+D25/E25 -> 3.2960612
A26: =+'S&D'!A26 -> NRG ENERGY | B26: =+'S&D'!B26 -> NRG | C26: =+'S&D'!C26 -> Power Electric | D26: =+'S&D'!D42 -> 3.0315571e+10 | E26: 1681000000 | F26: =+D26/E26 -> 18.034248
A27: =+'S&D'!A27 -> SOUTHERN COMPANY | B27: =+'S&D'!B27 -> SO | C27: =+'S&D'!C27 -> Electric - East | D27: =+'S&D'!D43 -> 95832800000 | E27: 36106000000 | F27: =+D27/E27 -> 2.6542071
A28: =+'S&D'!A28 -> VISTRA ENERGY CORPORATION | B28: =+'S&D'!B28 -> VST | C28: =+'S&D'!C28 -> Power Electric | D28: =+'S&D'!D44 -> 5.4539161e+10 | E28: 5097000000 | F28: =+D28/E28 -> 10.700247
E29: AVERAGE | F29: =AVERAGE(F22:F28) -> 6.5451881
B35: Ticker | C35: Industry | D35: Market Value | E35: Book Value | F35: Market to
B36: Symbol | C36: Group | D36: Long Term Debt | E36: Long Term Debt | F36: Book Ratio
A37: Company
A38: VL | B38: VL | C38: VL | D38: 10K | E38: 10K
A40: =+'S&D'!A22 -> AES CORPORATION | B40: =+'S&D'!B22 -> AES | C40: =+'S&D'!C22 -> Power Electric | D40: =+'S&D'!H38 -> 2.9002297e+10 | E40: =+'S&D'!J22 -> 29888000000 | F40: =+D40/E40 -> 0.97036594
A41: =+'S&D'!A23 -> DOMINION ENERGY INC | B41: =+'S&D'!B23 -> D | C41: =+'S&D'!C23 -> Electric - East | D41: =+'S&D'!H39 -> 3.543914e+10 | E41: =+'S&D'!J23 -> 36778000000 | F41: =+D41/E41 -> 0.96359616
A42: =+'S&D'!A24 -> CONSTELLATION ENERGY GENERATION LLC | B42: =+'S&D'!B24 -> CEG | C42: =+'S&D'!C24 -> Power Electric | D42: =+'S&D'!H40 -> 7661000000 | E42: =+'S&D'!J24 -> 7342000000 | F42: =+D42/E42 -> 1.0434487
A43: =+'S&D'!A25 -> NEXTERA ENERGY INC | B43: =+'S&D'!B25 -> NEE | C43: =+'S&D'!C25 -> Electric - East | D43: =+'S&D'!H41 -> 76428000000 | E43: =+'S&D'!J25 -> 80446000000 | F43: =+D43/E43 -> 0.95005345
A44: =+'S&D'!A26 -> NRG ENERGY | B44: =+'S&D'!B26 -> NRG | C44: =+'S&D'!C26 -> Power Electric | D44: =+'S&D'!H42 -> 1.6284178e+10 | E44: =+'S&D'!J26 -> 16443000000 | F44: =+D44/E44 -> 0.99034108
A45: =+'S&D'!A27 -> SOUTHERN COMPANY | B45: =+'S&D'!B27 -> SO | C45: =+'S&D'!C27 -> Electric - East | D45: =+'S&D'!H43 -> 59935875000 | E45: =+'S&D'!J27 -> 65649000000 | F45: =+D45/E45 -> 0.91297468
A46: =+'S&D'!A28 -> VISTRA ENERGY CORPORATION | B46: =+'S&D'!B28 -> VST | C46: =+'S&D'!C28 -> Power Electric | D46: =+'S&D'!H44 -> 1.7339155e+10 | E46: =+'S&D'!J28 -> 17043000000 | F46: =+D46/E46 -> 1.0173769
E47: AVERAGE | F47: =AVERAGE(F40:F46) -> 0.97830813
C52: Capital | D52: Market
C53: Structure | D53: to Book | E53: Composite
A54: EQUITY | C54: =+'Yield CapRate'!C23 -> 0.62 | D54: =+F29 -> 6.5451881 | E54: =+C54*D54 -> 4.0580166
A55: DEBT | B55: ='S&D'!J35 | C55: =+'Yield CapRate'!C25 -> 0.38 | D55: =+F47 -> 0.97830813 | E55: =+C55*D55 -> 0.37175709
D56: Total | E56: =+E54+E55 -> 4.4297737
A59: A market to book ratio over one would be an indication of no obsolescence
A60: Common Total Equity excludes 'noncontrolling interests' equity value.

Sheet Maintenance CapEx
A1: KENTUCKY DEPARTMENT OF REVENUE
A2: DIVISION OF STATE VALUATION, PUBLIC SERVICE BRANCH
A3: 2026 Tax Year
A8: =+'S&D'!A12 -> Electric Wholesale (non-regulated) Power Generator | G8: Maintenance Capital Expenditures
G9: Estimate using Guideline Companies
G10: YEAR END 12/31/2025
A14: A | B14: B | C14: C | D14: D | E14: E | F14: F | G14: G | H14: H | I14: I | J14: J | K14: K | L14: L
B15: Ticker | C15: Inflation | D15: PP&E Gross | E15: PP&E Gross | F15: PP&E | G15: Depreciation | H15: Average Life of | I15: * | J15: * | K15: Replacement | L15: RC as % of
A16: Company | B16: Symbol | C16: Rate % | D16: Current Year | E16: Previous Year | F16: Average | G16: Expense | H16: Assets | K16: Cost | L16: Depreciation
A17: VL | B17: VL | C17: CPI | D17: 10K Balance Sheet | E17: 10K Balance Sheet | F17: (D+E)/2 | G17: 10K Income Statement | H17: F/G | I17: C*H | J17: 1/(1=C)^H | K17: (G*I) / (1-J) | L17: K/G
A20: =+'S&D'!A22 -> AES CORPORATION | B20: =+'S&D'!B22 -> AES | C20: =+'Growth & Inflation Rates'!$D$56 -> 0.0228 | D20: =37818000000+9796000000 -> 47614000000 | E20: =33166000000+8701000000 -> 41867000000 | F20: =(D20+E20)/2 -> 44740500000 | G20: 1330000000 | H20: =+F20/G20 -> 33.639474 | I20: =+C20*H20 -> 0.76698 | J20: =1/(1+C20)^H20 -> 0.4684307 | K20: =(G20*I20)/(1-J20) -> 1.9190036e+09 | L20: =+K20/G20 -> 1.4428599
A21: =+'S&D'!A23 -> DOMINION ENERGY INC | B21: =+'S&D'!B23 -> D | C21: =+'Growth & Inflation Rates'!$D$56 -> 0.0228 | D21: 106315000000 | E21: 94844000000 | F21: =(D21+E21)/2 -> 100579500000 | G21: 2387000000 | H21: =+F21/G21 -> 42.136364 | I21: =+C21*H21 -> 0.96070909 | J21: =1/(1+C21)^H21 -> 0.3867717 | K21: =(G21*I21)/(1-J21) -> 3.739574e+09 | L21: =+K21/G21 -> 1.5666418
A22: =+'S&D'!A24 -> CONSTELLATION ENERGY GENERATION LLC | B22: =+'S&D'!B24 -> CEG | C22: =+'Growth & Inflation Rates'!$D$56 -> 0.0228 | D22: =22474000000+19072000000 -> 41546000000 | E22: =21235000000+18088000000 -> 39323000000 | F22: =(D22+E22)/2 -> 40434500000 | G22: 985000000 | H22: =+F22/G22 -> 41.050254 | I22: =+C22*H22 -> 0.93594579 | J22: =1/(1+C22)^H22 -> 0.39635878 | K22: =(G22*I22)/(1-J22) -> 1.5272426e+09 | L22: =+K22/G22 -> 1.5505001
A23: =+'S&D'!A25 -> NEXTERA ENERGY INC | B23: =+'S&D'!B25 -> NEE | C23: =+'Growth & Inflation Rates'!$D$56 -> 0.0228 | D23: =138852000000+25632000000 -> 164484000000 | E23: =125776000000+26900000000 -> 152676000000 | F23: =(D23+E23)/2 -> 158580000000 | G23: 5462000000 | H23: =+F23/G23 -> 29.033321 | I23: =+C23*H23 -> 0.66195972 | J23: =1/(1+C23)^H23 -> 0.51968825 | K23: =(G23*I23)/(1-J23) -> 7.527661e+09 | L23: =+K23/G23 -> 1.3781877
A24: =+'S&D'!A26 -> NRG ENERGY | B24: =+'S&D'!B26 -> NRG | C24: =+'Growth & Inflation Rates'!$D$56 -> 0.0228 | D24: 5406000000 | E24: 3529000000 | F24: =(D24+E24)/2 -> 4467500000 | G24: 1406000000 | H24: =+F24/G24 -> 3.1774538 | I24: =+C24*H24 -> 0.072445946 | J24: =1/(1+C24)^H24 -> 0.93087302 | K24: =(G24*I24)/(1-J24) -> 1.4735057e+09 | L24: =+K24/G24 -> 1.0480126
A25: =+'S&D'!A27 -> SOUTHERN COMPANY | B25: =+'S&D'!B27 -> SO | C25: =+'Growth & Inflation Rates'!$D$56 -> 0.0228 | D25: =114369000000+43483000000 -> 157852000000 | E25: 3529000000 | F25: =(D25+E25)/2 -> 80690500000 | G25: 5501000000 | H25: =+F25/G25 -> 14.668333 | I25: =+C25*H25 -> 0.33443799 | J25: =1/(1+C25)^H25 -> 0.71843332 | K25: =(G25*I25)/(1-J25) -> 6.5339529e+09 | L25: =+K25/G25 -> 1.1877755
A26: =+'S&D'!A28 -> VISTRA ENERGY CORPORATION | B26: =+'S&D'!B28 -> VST | C26: =+'Growth & Inflation Rates'!$D$56 -> 0.0228 | D26: =19846000000+704000000+9273000000 -> 29823000000 | E26: =23546000000+153000000+1060000000 -> 24759000000 | F26: =(D26+E26)/2 -> 27291000000 | G26: 1986000000 | H26: =+F26/G26 -> 13.741692 | I26: =+C26*H26 -> 0.31331057 | J26: =1/(1+C26)^H26 -> 0.73359937 | K26: =(G26*I26)/(1-J26) -> 2.3357107e+09 | L26: =+K26/G26 -> 1.176088
K28: High | L28: =MAX(L20:L26) -> 1.5666418
K29: Low | L29: =MIN(L20:L26) -> 1.0480126
K30: Median | L30: =MEDIAN(L20:L26) -> 1.3781877
K31: Mean | L31: =AVERAGE(L20:L26) -> 1.3357236
K33: Selected > | L33: 1.3357
A36: Notes:
A37: *Cornell, B. & Gerger, R. (2017) Estimating Terminal Values with Inflation : The Inputs Matter - It is Not a Formulaic Exercise. Business Valuation Review, Vol.36, Number 4, 117-123.
A39: Property, Plant & Equipment includes CWIP, but should exclude intangibles and the associated amortization.
A41: KENTUCKY DEPARTMENT OF REVENUE
A42: DIVISION OF STATE VALUATION, PUBLIC SERVICE BRANCH
A43: 2026 Tax Year
A48: Industry > Electric Companies | G48: Maintenance Capital Expenditures and Change in Working Capital
G49: YEAR END 12/31/2025
A54: g = b X ROE | C54: The plowback ratio is multiplied by Net Cash Flow to estimate the amount of additional capital expenditures needed to achieve projected results.
A55: b = g / ROE | C55: It is assumed that the ROE is a fixed (unchanging) rate.
A57: g = LT growth rate
A58: b = reinvestment rate
A59: ROE = Return on equity (or return on investment)
A65: Aswath Damodaran's model to determine the Reinvesment Rate >
A67: Reinvestment Rate = | D67: Capital Expenditures - Depreciation + Change in Working Capital
D68: EBIT (1-Tax Rate)

Sheet Beta for CAPM
A1: KENTUCKY DEPARTMENT OF REVENUE
A2: DIVISION OF STATE VALUATION, PUBLIC SERVICE BRANCH
A3: 2026 Tax Year
A8: =+'S&D'!A12 -> Electric Wholesale (non-regulated) Power Generator
E9: BETA SELECTION for CAPM
E10: YEAR END 12/31/2025
B13: Ticker | C13: Industry | D13: Actual | E13: Return on | F13: Retained to | G13: Financial | H13: Levered Beta
A14: Company | B14: Symbol | C14: Group | D14: Tax Rate | E14: Shareholders Equity | F14: Common Equity | G14: Strength | H14: Current
A15: VL | B15: VL | C15: VL | D15: VL | E15: Vl Projected 2026 | F15: Vl Projected 2026 | G15: VL | H15: Vl Projected 2026
A18: =+'S&D'!A22 -> AES CORPORATION | B18: =+'S&D'!B22 -> AES | C18: =+'S&D'!C22 -> Power Electric | D18: 0.21 | E18: 0.29 | F18: 0.2 | G18: B++ | H18: 1.25
A19: =+'S&D'!A23 -> DOMINION ENERGY INC | B19: =+'S&D'!B23 -> D | C19: =+'S&D'!C23 -> Electric - East | D19: 0.17 | E19: 0.11 | F19: 0.03 | G19: A | H19: 0.8
A20: =+'S&D'!A24 -> CONSTELLATION ENERGY GENERATION LLC | B20: =+'S&D'!B24 -> CEG | C20: =+'S&D'!C24 -> Power Electric | D20: 0.25 | E20: 0.14 | F20: 0.12 | G20: B++ | H20: 1.2
A21: =+'S&D'!A25 -> NEXTERA ENERGY INC | B21: =+'S&D'!B25 -> NEE | C21: =+'S&D'!C25 -> Electric - East | D21: 0.05 | E21: 0.14 | F21: 0.055 | G21: A+ | H21: 0.9
A22: =+'S&D'!A26 -> NRG ENERGY | B22: =+'S&D'!B26 -> NRG | C22: =+'S&D'!C26 -> Power Electric | D22: 0.245 | E22: 0.82 | F22: 0.615 | G22: B++ | H22: 1.15
A23: =+'S&D'!A27 -> SOUTHERN COMPANY | B23: =+'S&D'!B27 -> SO | C23: =+'S&D'!C27 -> Electric - East | D23: 0.15 | E23: 0.13 | F23: 0.035 | G23: A | H23: 0.65
A24: =+'S&D'!A28 -> VISTRA ENERGY CORPORATION | B24: =+'S&D'!B28 -> VST | C24: =+'S&D'!C28 -> Power Electric | D24: 0.23 | E24: 0.485 | F24: 0.435 | G24: B++ | H24: 1.2
G25: High | H25: =MAX(H18:H24) -> 1.25
G26: Low | H26: =MIN(H18:H24) -> 0.65
G27: Median | H27: =MEDIAN(H18:H24) -> 1.15
G28: Mean | H28: =AVERAGE(H18:H24) -> 1.0214286
G30: Selected | H30: 1.02
A33: Return on Shareholders Equity -- Annual net profit divided by year-end shareholders equity, expressed as a percentage.
A34: Retained to Common Equity -- Net profit less all common and preferred dividends divided by common equity including intangible assets, expressed as a percentage. Also known as the plowback ratio.

Sheet Earnings
A1: KENTUCKY DEPARTMENT OF REVENUE
A2: DIVISION OF STATE VALUATION, PUBLIC SERVICE BRANCH
A3: 2026 Tax Year
A6: =+'S&D'!A12 -> Electric Wholesale (non-regulated) Power Generator
E7: Earnings Data
E8: YEAR END 12/31/2025
B10: Ticker | C10: Industry | D10: Stock | E10: Earnings | F10: Earnings | G10: Earnings | H10: Earnings | I10: Earnings | J10: Earnings | K10: Short Term
B11: Symbol | C11: Group | D11: Price | E11: Per Share | F11: Yield | G11: Per Share | H11: Yield | I11: Per Share | J11: Yield | K11: Growth Rate
A12: Company | E12: Historic | F12: Historic | G12: 1 Yr Projected | H12: 1 Yr Projected | I12: 3-5 Yr Projected | J12: 3-5 Yr Projected | K12: (1)
A13: VL | B13: VL | C13: VL | D13: Year End | E13: VL | G13: VL | I13: VL
A16: =+'S&D'!A22 -> AES CORPORATION | B16: =+'S&D'!B22 -> AES | C16: =+'S&D'!C22 -> Power Electric | D16: =+'S&D'!G22 -> 9.42 | E16: 2.1 | F16: =+E16/D16 -> 0.22292994 | G16: 2.2 | H16: =+G16/D16 -> 0.23354565 | I16: 3 | J16: =+I16/D16 -> 0.31847134 | K16: =RATE(3,,-G16,I16) -> 0.10891823
A17: =+'S&D'!A23 -> DOMINION ENERGY INC | B17: =+'S&D'!B23 -> D | C17: =+'S&D'!C23 -> Electric - East | D17: =+'S&D'!G23 -> 58.59 | E17: 3.6 | F17: =+E17/D17 -> 0.061443932 | G17: 3.85 | H17: =+G17/D17 -> 0.065710872 | I17: 4.6 | J17: =+I17/D17 -> 0.078511691 | K17: =RATE(3,,-G17,I17) -> 0.061122933
A18: =+'S&D'!A24 -> CONSTELLATION ENERGY GENERATION LLC | B18: =+'S&D'!B24 -> CEG | C18: =+'S&D'!C24 -> Power Electric | D18: =+'S&D'!G24 -> 353.27 | E18: 11.5 | F18: =+E18/D18 -> 0.032553005 | G18: 13.3 | H18: =+G18/D18 -> 0.037648258 | I18: 18.5 | J18: =+I18/D18 -> 0.052367877 | K18: =RATE(3,,-G18,I18) -> 0.11628056
A19: =+'S&D'!A25 -> NEXTERA ENERGY INC | B19: =+'S&D'!B25 -> NEE | C19: =+'S&D'!C25 -> Electric - East | D19: =+'S&D'!G25 -> 80.28 | E19: 4 | F19: =+E19/D19 -> 0.04982561 | G19: 4.35 | H19: =+G19/D19 -> 0.054185351 | I19: 5.5 | J19: =+I19/D19 -> 0.068510214 | K19: =RATE(3,,-G19,I19) -> 0.081328901
A20: =+'S&D'!A26 -> NRG ENERGY | B20: =+'S&D'!B26 -> NRG | C20: =+'S&D'!C26 -> Power Electric | D20: =+'S&D'!G26 -> 159.24 | E20: 7.5 | F20: =+E20/D20 -> 0.047098719 | G20: 8.5 | H20: =+G20/D20 -> 0.053378548 | I20: 10.85 | J20: =+I20/D20 -> 0.068136147 | K20: =RATE(3,,-G20,I20) -> 0.08476818
A21: =+'S&D'!A27 -> SOUTHERN COMPANY | B21: =+'S&D'!B27 -> SO | C21: =+'S&D'!C27 -> Electric - East | D21: =+'S&D'!G27 -> 87.2 | E21: 4.55 | F21: =+E21/D21 -> 0.052178899 | G21: 4.8 | H21: =+G21/D21 -> 0.055045872 | I21: 6 | J21: =+I21/D21 -> 0.068807339 | K21: =RATE(3,,-G21,I21) -> 0.077217345
A22: =+'S&D'!A28 -> VISTRA ENERGY CORPORATION | B22: =+'S&D'!B28 -> VST | C22: =+'S&D'!C28 -> Power Electric | D22: =+'S&D'!G28 -> 161.33 | E22: 8.7 | F22: =+E22/D22 -> 0.053926734 | G22: 11.2 | H22: =+G22/D22 -> 0.069422922 | I22: 17.1 | J22: =+I22/D22 -> 0.10599393 | K22: =RATE(3,,-G22,I22) -> 0.15148786
D24: High | E24: =MAX(E16:E22) -> 11.5 | F24: =MAX(F16:F22) -> 0.22292994 | G24: =MAX(G16:G22) -> 13.3 | H24: =MAX(H16:H22) -> 0.23354565 | I24: =MAX(I16:I22) -> 18.5 | J24: =MAX(J16:J22) -> 0.31847134 | K24: =MAX(K16:K22) -> 0.15148786
D25: Low | E25: =MIN(E16:E22) -> 2.1 | F25: =MIN(F16:F22) -> 0.032553005 | G25: =MIN(G16:G22) -> 2.2 | H25: =MIN(H16:H22) -> 0.037648258 | I25: =MIN(I16:I22) -> 3 | J25: =MIN(J16:J22) -> 0.052367877 | K25: =MIN(K16:K22) -> 0.061122933
D26: Median | E26: =MEDIAN(E16:E22) -> 4.55 | F26: =MEDIAN(F16:F22) -> 0.052178899 | G26: =MEDIAN(G16:G22) -> 4.8 | H26: =MEDIAN(H16:H22) -> 0.055045872 | I26: =MEDIAN(I16:I22) -> 6 | J26: =MEDIAN(J16:J22) -> 0.068807339 | K26: =MEDIAN(K16:K22) -> 0.08476818
D27: Mean | E27: =AVERAGE(E16:E22) -> 5.9928571 | F27: =AVERAGE(F16:F22) -> 0.074279548 | G27: =AVERAGE(G16:G22) -> 6.8857143 | H27: =AVERAGE(H16:H22) -> 0.081276781 | I27: =AVERAGE(I16:I22) -> 9.3642857 | J27: =AVERAGE(J16:J22) -> 0.1086855 | K27: =AVERAGE(K16:K22) -> 0.097303431
A30: (1) 4 Year compound annual growth rate (CAGR) - 3 periods

Sheet Dividends 
A1: KENTUCKY DEPARTMENT OF REVENUE
A2: DIVISION OF STATE VALUATION, PUBLIC SERVICE BRANCH
A3: 2026 Tax Year
A6: =+'S&D'!A12 -> Electric Wholesale (non-regulated) Power Generator
E7: Dividend Data
E8: YEAR END 12/31/2025
B10: Ticker | C10: Industry | D10: Stock | E10: Dividends | F10: Dividend | G10: Dividends | H10: Dividend | I10: Dividends | J10: Dividend | K10: Short Term
B11: Symbol | C11: Group | D11: Price | E11: Per Share | F11: Yield | G11: Per Share | H11: Yield | I11: Per Share | J11: Yield | K11: Growth Rate
A12: Company | E12: Historic | F12: Historic | G12: 1 Yr Projected | H12: 1 Yr Projected | I12: 3-5 Yr Projected | J12: 3-5 Yr Projected | K12: (1)
A13: VL | B13: VL | C13: VL | D13: Year End | E13: VL | G13: VL | I13: VL
A16: =+'S&D'!A22 -> AES CORPORATION | B16: =+'S&D'!B22 -> AES | C16: =+'S&D'!C22 -> Power Electric | D16: =+'S&D'!G22 -> 9.42 | E16: 0.71 | F16: =+E16/D16 -> 0.07537155 | G16: 0.72 | H16: =+G16/D16 -> 0.076433121 | I16: 0.75 | J16: =+I16/D16 -> 0.079617834 | K16: =RATE(3,,-G16,I16) -> 0.013700333
A17: =+'S&D'!A23 -> DOMINION ENERGY INC | B17: =+'S&D'!B23 -> D | C17: =+'S&D'!C23 -> Electric - East | D17: =+'S&D'!G23 -> 58.59 | E17: 2.67 | F17: =+E17/D17 -> 0.045570917 | G17: 2.67 | H17: =+G17/D17 -> 0.045570917 | I17: 2.8 | J17: =+I17/D17 -> 0.047789725 | K17: =RATE(3,,-G17,I17) -> 0.015973211
A18: =+'S&D'!A24 -> CONSTELLATION ENERGY GENERATION LLC | B18: =+'S&D'!B24 -> CEG | C18: =+'S&D'!C24 -> Power Electric | D18: =+'S&D'!G24 -> 353.27 | E18: 1.71 | F18: =+E18/D18 -> 0.0048404903 | G18: 1.88 | H18: =+G18/D18 -> 0.0053217086 | I18: 2.5 | J18: =+I18/D18 -> 0.0070767402 | K18: =RATE(3,,-G18,I18) -> 0.099665803
A19: =+'S&D'!A25 -> NEXTERA ENERGY INC | B19: =+'S&D'!B25 -> NEE | C19: =+'S&D'!C25 -> Electric - East | D19: =+'S&D'!G25 -> 80.28 | E19: 2.5 | F19: =+E19/D19 -> 0.031141006 | G19: 2.74 | H19: =+G19/D19 -> 0.034130543 | I19: 3.48 | J19: =+I19/D19 -> 0.043348281 | K19: =RATE(3,,-G19,I19) -> 0.082952879
A20: =+'S&D'!A26 -> NRG ENERGY | B20: =+'S&D'!B26 -> NRG | C20: =+'S&D'!C26 -> Power Electric | D20: =+'S&D'!G26 -> 159.24 | E20: 1.88 | F20: =+E20/D20 -> 0.011806079 | G20: 2.02 | H20: =+G20/D20 -> 0.012685255 | I20: 2.56 | J20: =+I20/D20 -> 0.016076363 | K20: =RATE(3,,-G20,I20) -> 0.082171765
A21: =+'S&D'!A27 -> SOUTHERN COMPANY | B21: =+'S&D'!B27 -> SO | C21: =+'S&D'!C27 -> Electric - East | D21: =+'S&D'!G27 -> 87.2 | E21: 3.04 | F21: =+E21/D21 -> 0.034862385 | G21: 3.14 | H21: =+G21/D21 -> 0.036009174 | I21: 3.44 | J21: =+I21/D21 -> 0.039449541 | K21: =RATE(3,,-G21,I21) -> 0.030883523
A22: =+'S&D'!A28 -> VISTRA ENERGY CORPORATION | B22: =+'S&D'!B28 -> VST | C22: =+'S&D'!C28 -> Power Electric | D22: =+'S&D'!G28 -> 161.33 | E22: 0.92 | F22: =+E22/D22 -> 0.0057025972 | G22: 1 | H22: =+G22/D22 -> 0.0061984752 | I22: 1.56 | J22: =+I22/D22 -> 0.0096696213 | K22: =RATE(3,,-G22,I22) -> 0.159778
D24: High | E24: =MAX(E16:E22) -> 3.04 | F24: =MAX(F16:F22) -> 0.07537155 | G24: =MAX(G16:G22) -> 3.14 | H24: =MAX(H16:H22) -> 0.076433121 | I24: =MAX(I16:I22) -> 3.48 | J24: =MAX(J16:J22) -> 0.079617834 | K24: =MAX(K16:K22) -> 0.159778
D25: Low | E25: =MIN(E16:E22) -> 0.71 | F25: =MIN(F16:F22) -> 0.0048404903 | G25: =MIN(G16:G22) -> 0.72 | H25: =MIN(H16:H22) -> 0.0053217086 | I25: =MIN(I16:I22) -> 0.75 | J25: =MIN(J16:J22) -> 0.0070767402 | K25: =MIN(K16:K22) -> 0.013700333
D26: Median | E26: =MEDIAN(E16:E22) -> 1.88 | F26: =MEDIAN(F16:F22) -> 0.031141006 | G26: =MEDIAN(G16:G22) -> 2.02 | H26: =MEDIAN(H16:H22) -> 0.034130543 | I26: =MEDIAN(I16:I22) -> 2.56 | J26: =MEDIAN(J16:J22) -> 0.039449541 | K26: =MEDIAN(K16:K22) -> 0.082171765
D27: Mean | E27: =AVERAGE(E16:E22) -> 1.9185714 | F27: =AVERAGE(F16:F22) -> 0.029899289 | G27: =AVERAGE(G16:G22) -> 2.0242857 | H27: =AVERAGE(H16:H22) -> 0.030907028 | I27: =AVERAGE(I16:I22) -> 2.4414286 | J27: =AVERAGE(J16:J22) -> 0.034718301 | K27: =AVERAGE(K16:K22) -> 0.069303645
A30: (1) 4 Year compound annual growth rate (CAGR) - 3 periods

Sheet Debt
A1: KENTUCKY DEPARTMENT OF REVENUE
A2: DIVISION OF STATE VALUATION, PUBLIC SERVICE BRANCH
A3: 2026 Tax Year
A6: =+'S&D'!A12 -> Electric Wholesale (non-regulated) Power Generator
E7: DEBT RATE for Direct and Yield Approach
E8: YEAR END 12/31/2025
B10: Ticker | C10: Industry | D10: Actual | E10: Financial | F10: S&P | G10: Numeric | H10: Bond | I10: Numeric | J10: Mergent Bond
A11: Company | B11: Symbol | C11: Group | D11: Tax Rate | E11: Strength | F11: Rating | G11: Rating | H11: Rating | I11: Rating | J11: Debt Rate
A12: VL | B12: VL | C12: VL | D12: VL | E12: VL | F12: S&P | H12: Moody's Bond | J12: Mergent Bond
A15: =+'S&D'!A22 -> AES CORPORATION | B15: =+'S&D'!B22 -> AES | C15: =+'S&D'!C22 -> Power Electric | D15: =+'Beta for CAPM'!D18 -> 0.21 | E15: =+'Beta for CAPM'!G18 -> B++ | F15: BBB- | G15: 12 | H15: Baa3 | I15: =VLOOKUP(H15,$A$35:$E$58,2,0) -> 12 | J15: =VLOOKUP(I15,$B$35:$E$58,3,0) -> 0.059
A16: =+'S&D'!A23 -> DOMINION ENERGY INC | B16: =+'S&D'!B23 -> D | C16: =+'S&D'!C23 -> Electric - East | D16: =+'Beta for CAPM'!D19 -> 0.17 | E16: =+'Beta for CAPM'!G19 -> A | F16: BBB+ | G16: 10 | H16: Baa2 | I16: =VLOOKUP(H16,$A$35:$E$58,2,0) -> 11 | J16: =VLOOKUP(I16,$B$35:$E$58,3,0) -> 0.059
A17: =+'S&D'!A24 -> CONSTELLATION ENERGY GENERATION LLC | B17: =+'S&D'!B24 -> CEG | C17: =+'S&D'!C24 -> Power Electric | D17: =+'Beta for CAPM'!D20 -> 0.25 | E17: =+'Beta for CAPM'!G20 -> B++ | F17: BBB+ | G17: 10 | H17: Baa1 | I17: =VLOOKUP(H17,$A$35:$E$58,2,0) -> 10 | J17: =VLOOKUP(I17,$B$35:$E$58,3,0) -> 0.059
A18: =+'S&D'!A25 -> NEXTERA ENERGY INC | B18: =+'S&D'!B25 -> NEE | C18: =+'S&D'!C25 -> Electric - East | D18: =+'Beta for CAPM'!D21 -> 0.05 | E18: =+'Beta for CAPM'!G21 -> A+ | F18: A- | G18: 9 | H18: Baa1 | I18: =VLOOKUP(H18,$A$35:$E$58,2,0) -> 10 | J18: =VLOOKUP(I18,$B$35:$E$58,3,0) -> 0.059
A19: =+'S&D'!A26 -> NRG ENERGY | B19: =+'S&D'!B26 -> NRG | C19: =+'S&D'!C26 -> Power Electric | D19: =+'Beta for CAPM'!D22 -> 0.245 | E19: =+'Beta for CAPM'!G22 -> B++ | F19: BB | G19: 14 | H19: Ba1 | I19: =VLOOKUP(H19,$A$35:$E$58,2,0) -> 13 | J19: =VLOOKUP(I19,$B$35:$E$58,3,0) -> 0.0813
A20: =+'S&D'!A27 -> SOUTHERN COMPANY | B20: =+'S&D'!B27 -> SO | C20: =+'S&D'!C27 -> Electric - East | D20: =+'Beta for CAPM'!D23 -> 0.15 | E20: =+'Beta for CAPM'!G23 -> A | F20: A- | G20: 9 | H20: Baa2 | I20: =VLOOKUP(H20,$A$35:$E$58,2,0) -> 11 | J20: =VLOOKUP(I20,$B$35:$E$58,3,0) -> 0.059
A21: =+'S&D'!A28 -> VISTRA ENERGY CORPORATION | B21: =+'S&D'!B28 -> VST | C21: =+'S&D'!C28 -> Power Electric | D21: =+'Beta for CAPM'!D24 -> 0.23 | E21: =+'Beta for CAPM'!G24 -> B++ | F21: BBB- | G21: 12 | H21: Ba1 | I21: =VLOOKUP(H21,$A$35:$E$58,2,0) -> 13 | J21: =VLOOKUP(I21,$B$35:$E$58,3,0) -> 0.0813
E23: High | G23: =+MAX(G15:G21) -> 14 | I23: =+MAX(I15:I21) -> 13 | J23: =+MAX(J15:J21) -> 0.0813
E24: Low | G24: =MIN(G15:G21) -> 9 | I24: =MIN(I15:I21) -> 10 | J24: =MIN(J15:J21) -> 0.059
E25: Median | G25: =MEDIAN(G15:G21) -> 10 | I25: =MEDIAN(I15:I21) -> 11 | J25: =MEDIAN(J15:J21) -> 0.059
E26: Mean | G26: =AVERAGE(G15:G21) -> 10.857143 | I26: =AVERAGE(I15:I21) -> 11.428571 | J26: =AVERAGE(J15:J21) -> 0.065371429
H29: Indicated Rate of Debt > | J29: 0.0654
A33: Bond Rating Scale
A34: Moody's Rating | B34: Scale | C34: S&P Rating | D34: Corporate December Avg | E34: Utility December Avg
A35: Aaa1 | B35: 1 | C35: AAA+ | D35: 0.0531 | E35: 0.0531
A36: Aaa2 | B36: 2 | C36: AAA | D36: 0.0531 | E36: 0.0531 | F36: Obligations rated Aaa are judged to be of the highest quality, with minimal risk.
A37: Aaa3 | B37: 3 | C37: AAA- | D37: 0.0531 | E37: 0.0531
A38: Aa1 | B38: 4 | C38: AA+ | D38: 0.0549 | E38: 0.0557
A39: Aa2 | B39: 5 | C39: AA | D39: 0.0549 | E39: 0.0557 | F39: Obligations rated Aa are judged to be of high quality, with minimal risk.
A40: Aa3 | B40: 6 | C40: AA- | D40: 0.0549 | E40: 0.0557
A41: A1 | B41: 7 | C41: A+ | D41: 0.0563 | E41: 0.0568
A42: A2 | B42: 8 | C42: A | D42: 0.0563 | E42: 0.0568 | F42: Obligations rated A are considered upper-medium-grade and are sub­ject to low credit risk.
A43: A3 | B43: 9 | C43: A- | D43: 0.0563 | E43: 0.0568
A44: Baa1 | B44: 10 | C44: BBB+ | D44: 0.059 | E44: 0.0588
A45: Baa2 | B45: 11 | C45: BBB | D45: 0.059 | E45: 0.0588 | F45: Obligations rated Baa are subject to moderate credit risk. They are considered medium-grade and as such may possess speculative characteristics.
A46: Baa3 | B46: 12 | C46: BBB- | D46: 0.059 | E46: 0.0588
A47: Ba1 | B47: 13 | C47: BB+ | D47: 0.0813 | E47: 0.0814
A48: Ba2 | B48: 14 | C48: BB | D48: 0.0813 | E48: 0.0814 | F48: Obligations rated Ba are judged to have speculative elements and are subject to substantial credit risk.
A49: Ba3 | B49: 15 | C49: BB- | D49: 0.0813 | E49: 0.0814
A50: B1 | B50: 16 | C50: B+ | D50: 0.0899 | E50: 0.09
A51: B2 | B51: 17 | C51: B | D51: 0.0899 | E51: 0.09 | F51: Obligations rated B are considered speculative and are subject to high credit risk.
...

Sheet Direct GCF
A1: KENTUCKY DEPARTMENT OF REVENUE
A2: DIVISION OF STATE VALUATION, PUBLIC SERVICE BRANCH
A3: 2026 Tax Year
A6: =+'S&D'!A12 -> Electric Wholesale (non-regulated) Power Generator
D9: GCF CASH FLOW MULTIPLE & EQUITY RATE | K9: GCF CASH FLOW MULTIPLE & EQUITY RATE (1 Yr Projected VL)
D10: YEAR END 12/31/2025 | K10: YEAR END 12/31/2025
B12: Ticker | D12: Gross Cash Flow | E12: Gross Cash Flow | F12: Computed | H12: Ticker | J12: Gross Cash Flow | L12: Gross Cash Flow | M12: Computed
A13: Company | B13: Symbol | C13: Price | E13: Multiple | F13: Inverse | H13: Symbol | I13: Price | L13: Multiple | M13: Inverse
C14: Year End | D14: VL Historic | I14: Year End | J14: VL Projected
A17: =+'S&D'!A22 -> AES CORPORATION | B17: =+'S&D'!B22 -> AES | C17: =+'S&D'!G22 -> 9.42 | D17: 4.25 | E17: =C17/D17 -> 2.2164706 | F17: =1/E17 -> 0.45116773 | H17: =+B17 -> AES | I17: =+C17 -> 9.42 | J17: 4.4 | L17: =I17/J17 -> 2.1409091 | M17: =1/L17 -> 0.4670913
A18: =+'S&D'!A23 -> DOMINION ENERGY INC | B18: =+'S&D'!B23 -> D | C18: =+'S&D'!G23 -> 58.59 | D18: 6.7 | E18: =C18/D18 -> 8.7447761 | F18: =1/E18 -> 0.11435399 | H18: =+B18 -> D | I18: =+C18 -> 58.59 | J18: 7 | L18: =I18/J18 -> 8.37 | M18: =1/L18 -> 0.11947431
A19: =+'S&D'!A24 -> CONSTELLATION ENERGY GENERATION LLC | B19: =+'S&D'!B24 -> CEG | C19: =+'S&D'!G24 -> 353.27 | D19: 19.8 | E19: =C19/D19 -> 17.841919 | F19: =1/E19 -> 0.056047782 | H19: =+B19 -> CEG | I19: =+C19 -> 353.27 | J19: 22.4 | L19: =I19/J19 -> 15.770982 | M19: =1/L19 -> 0.063407592
A20: =+'S&D'!A25 -> NEXTERA ENERGY INC | B20: =+'S&D'!B25 -> NEE | C20: =+'S&D'!G25 -> 80.28 | D20: 6.75 | E20: =C20/D20 -> 11.893333 | F20: =1/E20 -> 0.084080717 | H20: =+B20 -> NEE | I20: =+C20 -> 80.28 | J20: 7.25 | L20: =I20/J20 -> 11.073103 | M20: =1/L20 -> 0.090308919
A21: =+'S&D'!A26 -> NRG ENERGY | B21: =+'S&D'!B26 -> NRG | C21: =+'S&D'!G26 -> 159.24 | D21: 15.4 | E21: =C21/D21 -> 10.34026 | F21: =1/E21 -> 0.09670937 | H21: =+B21 -> NRG | I21: =+C21 -> 159.24 | J21: 17.25 | L21: =I21/J21 -> 9.2313043 | M21: =1/L21 -> 0.10832705
A22: =+'S&D'!A27 -> SOUTHERN COMPANY | B22: =+'S&D'!B27 -> SO | C22: =+'S&D'!G27 -> 87.2 | D22: 8.85 | E22: =C22/D22 -> 9.8531073 | F22: =1/E22 -> 0.10149083 | H22: =+B22 -> SO | I22: =+C22 -> 87.2 | J22: 9.05 | L22: =I22/J22 -> 9.6353591 | M22: =1/L22 -> 0.1037844
A23: =+'S&D'!A28 -> VISTRA ENERGY CORPORATION | B23: =+'S&D'!B28 -> VST | C23: =+'S&D'!G28 -> 161.33 | D23: 18.2 | E23: =C23/D23 -> 8.8642857 | F23: =1/E23 -> 0.11281225 | H23: =+B23 -> VST | I23: =+C23 -> 161.33 | J23: 21.15 | L23: =I23/J23 -> 7.627896 | M23: =1/L23 -> 0.13109775
C25: High | D25: =MAX(D17:D23) -> 19.8 | E25: =MAX(E17:E23) -> 17.841919 | F25: =MAX(F17:F23) -> 0.45116773 | I25: High | J25: =MAX(J17:J23) -> 22.4 | L25: =MAX(L17:L23) -> 15.770982 | M25: =MAX(M17:M23) -> 0.4670913
C26: Low | D26: =MIN(D17:D23) -> 4.25 | E26: =MIN(E17:E23) -> 2.2164706 | F26: =MIN(F17:F23) -> 0.056047782 | I26: Low | J26: =MIN(J17:J23) -> 4.4 | L26: =MIN(L17:L23) -> 2.1409091 | M26: =MIN(M17:M23) -> 0.063407592
C27: Median | D27: =MEDIAN(D17:D23) -> 8.85 | E27: =MEDIAN(E17:E23) -> 9.8531073 | F27: =MEDIAN(F17:F23) -> 0.10149083 | I27: Median | J27: =MEDIAN(J17:J23) -> 9.05 | L27: =MEDIAN(L17:L23) -> 9.2313043 | M27: =MEDIAN(M17:M23) -> 0.10832705
C28: Mean | D28: =AVERAGE(D17:D23) -> 11.421429 | E28: =AVERAGE(E17:E23) -> 9.9648789 | F28: =AVERAGE(F17:F23) -> 0.14523752 | I28: Mean | J28: =AVERAGE(J17:J23) -> 12.642857 | L28: =AVERAGE(L17:L23) -> 9.1213649 | M28: =AVERAGE(M17:M23) -> 0.15478448
D30: Selected | E30: 9.96 | F30: 0.1452 | J30: Selected | L30: 9.12 | M30: 0.1548
H32: SELECTED AVERAGE > | L32: =(E30+L30)/2 -> 9.54 | M32: =(F30+M30)/2 -> 0.15
A33: Guideline companies were selected from Electric (East & Central & West) Value Line Industry groups.

Sheet Direct NOPAT
A1: KENTUCKY DEPARTMENT OF REVENUE
A2: DIVISION OF STATE VALUATION, PUBLIC SERVICE BRANCH
A3: 2026 Tax Year
A6: =+'S&D'!A12 -> Electric Wholesale (non-regulated) Power Generator
E8: NOPAT CASH FLOW MULTIPLE & EQUITY RATE | K8: NOPAT CASH FLOW MULTIPLE & EQUITY RATE (1 Yr Projected VL)
E9: YEAR END 12/31/2025 | K9: YEAR END 12/31/2025
C11: Ticker | E11: NOPAT | F11: NOPAT | G11: Computed | I11: Ticker | K11: NOPAT | L11: NOPAT | M11: Computed
A12: Company | C12: Symbol | D12: Price | E12: Earnings | F12: Multiple | G12: Inverse | I12: Symbol | J12: Price | K12: Earnings | L12: Multiple | M12: Inverse
D13: Year End | E13: VL Historic | J13: Year End | K13: VL Projected NOI
A16: =+'S&D'!A22 -> AES CORPORATION | C16: =+'S&D'!B22 -> AES | D16: ='S&D'!G22 -> 9.42 | E16: =+Earnings!E16 -> 2.1 | F16: =D16/E16 -> 4.4857143 | G16: =1/F16 -> 0.22292994 | I16: ALE | J16: =+D16 -> 9.42 | K16: =+Earnings!G16 -> 2.2 | L16: =J16/K16 -> 4.2818182 | M16: =1/L16 -> 0.23354565
A17: =+'S&D'!A23 -> DOMINION ENERGY INC | C17: =+'S&D'!B23 -> D | D17: ='S&D'!G23 -> 58.59 | E17: =+Earnings!E17 -> 3.6 | F17: =D17/E17 -> 16.275 | G17: =1/F17 -> 0.061443932 | I17: LNT | J17: =+D17 -> 58.59 | K17: =+Earnings!G17 -> 3.85 | L17: =J17/K17 -> 15.218182 | M17: =1/L17 -> 0.065710872
A18: =+'S&D'!A24 -> CONSTELLATION ENERGY GENERATION LLC | C18: =+'S&D'!B24 -> CEG | D18: ='S&D'!G24 -> 353.27 | E18: =+Earnings!E18 -> 11.5 | F18: =D18/E18 -> 30.71913 | G18: =1/F18 -> 0.032553005 | I18: AEE | J18: =+D18 -> 353.27 | K18: =+Earnings!G18 -> 13.3 | L18: =J18/K18 -> 26.561654 | M18: =1/L18 -> 0.037648258
A19: =+'S&D'!A25 -> NEXTERA ENERGY INC | C19: =+'S&D'!B25 -> NEE | D19: ='S&D'!G25 -> 80.28 | E19: =+Earnings!E19 -> 4 | F19: =D19/E19 -> 20.07 | G19: =1/F19 -> 0.04982561 | I19: AEE | J19: =+D19 -> 80.28 | K19: =+Earnings!G19 -> 4.35 | L19: =J19/K19 -> 18.455172 | M19: =1/L19 -> 0.054185351
A20: =+'S&D'!A26 -> NRG ENERGY | C20: =+'S&D'!B26 -> NRG | D20: ='S&D'!G26 -> 159.24 | E20: =+Earnings!E20 -> 7.5 | F20: =D20/E20 -> 21.232 | G20: =1/F20 -> 0.047098719 | I20: AEP | J20: =+D20 -> 159.24 | K20: =+Earnings!G20 -> 8.5 | L20: =J20/K20 -> 18.734118 | M20: =1/L20 -> 0.053378548
A21: =+'S&D'!A27 -> SOUTHERN COMPANY | C21: =+'S&D'!B27 -> SO | D21: ='S&D'!G27 -> 87.2 | E21: =+Earnings!E21 -> 4.55 | F21: =D21/E21 -> 19.164835 | G21: =1/F21 -> 0.052178899 | I21: CNP | J21: =+D21 -> 87.2 | K21: =+Earnings!G21 -> 4.8 | L21: =J21/K21 -> 18.166667 | M21: =1/L21 -> 0.055045872
A22: =+'S&D'!A28 -> VISTRA ENERGY CORPORATION | C22: =+'S&D'!B28 -> VST | D22: ='S&D'!G28 -> 161.33 | E22: =+Earnings!E22 -> 8.7 | F22: =D22/E22 -> 18.543678 | G22: =1/F22 -> 0.053926734 | I22: CMS | J22: =+D22 -> 161.33 | K22: =+Earnings!G22 -> 11.2 | L22: =J22/K22 -> 14.404464 | M22: =1/L22 -> 0.069422922
D24: High | E24: =MAX(E16:E22) -> 11.5 | F24: =MAX(F16:F22) -> 30.71913 | G24: =MAX(G16:G22) -> 0.22292994 | J24: High | K24: =MAX(K16:K22) -> 13.3 | L24: =MAX(L16:L22) -> 26.561654 | M24: =MAX(M16:M22) -> 0.23354565
D25: Low | E25: =MIN(E16:E22) -> 2.1 | F25: =MIN(F16:F22) -> 4.4857143 | G25: =MIN(G16:G22) -> 0.032553005 | J25: Low | K25: =MIN(K16:K22) -> 2.2 | L25: =MIN(L16:L22) -> 4.2818182 | M25: =MIN(M16:M22) -> 0.037648258
D26: Median | E26: =MEDIAN(E16:E22) -> 4.55 | F26: =MEDIAN(F16:F22) -> 19.164835 | G26: =MEDIAN(G16:G22) -> 0.052178899 | J26: Median | K26: =MEDIAN(K16:K22) -> 4.8 | L26: =MEDIAN(L16:L22) -> 18.166667 | M26: =MEDIAN(M16:M22) -> 0.055045872
D27: Mean | E27: =AVERAGE(E16:E22) -> 5.9928571 | F27: =AVERAGE(F16:F22) -> 18.64148 | G27: =AVERAGE(G16:G22) -> 0.074279548 | J27: Mean | K27: =AVERAGE(K16:K22) -> 6.8857143 | L27: =AVERAGE(L16:L22) -> 16.546011 | M27: =AVERAGE(M16:M22) -> 0.081276781
E29: Selected | F29: 18.64 | G29: 0.0743 | K29: Selected | L29: 16.55 | M29: 0.0813
G33: SELECTED AVERAGE > | I33: =(+F29+L29)/2 -> 17.595 | J33: =(+G29+M29)/2 -> 0.0778
E38: NOPAT CASH FLOW MULTIPLE & EQUITY RATE (LT 27-29 Yr Projected VL
E39: YEAR END 12/31/2025
C41: Ticker | D41: Share | E41: NOPAT Earnings | F41: NOPAT | G41: Computed
A42: Company | C42: Symbol | D42: Price | E42: Per Share | F42: Multiple | G42: Inverse
D43: Year End | E43: VL LT Projected NOI
A46: =+'S&D'!A22 -> AES CORPORATION | C46: =+'S&D'!B22 -> AES | D46: ='S&D'!G22 -> 9.42 | E46: =+Earnings!I16 -> 3 | F46: =D46/E46 -> 3.14 | G46: =1/F46 -> 0.31847134
A47: =+'S&D'!A23 -> DOMINION ENERGY INC | C47: =+'S&D'!B23 -> D | D47: ='S&D'!G23 -> 58.59 | E47: =+Earnings!I17 -> 4.6 | F47: =D47/E47 -> 12.736957 | G47: =1/F47 -> 0.078511691
A48: =+'S&D'!A24 -> CONSTELLATION ENERGY GENERATION LLC | C48: =+'S&D'!B24 -> CEG | D48: ='S&D'!G24 -> 353.27 | E48: =+Earnings!I18 -> 18.5 | F48: =D48/E48 -> 19.095676 | G48: =1/F48 -> 0.052367877
A49: =+'S&D'!A25 -> NEXTERA ENERGY INC | C49: =+'S&D'!B25 -> NEE | D49: ='S&D'!G25 -> 80.28 | E49: =+Earnings!I19 -> 5.5 | F49: =D49/E49 -> 14.596364 | G49: =1/F49 -> 0.068510214
A50: =+'S&D'!A26 -> NRG ENERGY | C50: =+'S&D'!B26 -> NRG | D50: ='S&D'!G26 -> 159.24 | E50: =+Earnings!I20 -> 10.85 | F50: =D50/E50 -> 14.676498 | G50: =1/F50 -> 0.068136147
A51: =+'S&D'!A27 -> SOUTHERN COMPANY | C51: =+'S&D'!B27 -> SO | D51: ='S&D'!G27 -> 87.2 | E51: =+Earnings!I21 -> 6 | F51: =D51/E51 -> 14.533333 | G51: =1/F51 -> 0.068807339
A52: =+'S&D'!A28 -> VISTRA ENERGY CORPORATION | C52: =+'S&D'!B28 -> VST | D52: ='S&D'!G28 -> 161.33 | E52: =+Earnings!I22 -> 17.1 | F52: =D52/E52 -> 9.4345029 | G52: =1/F52 -> 0.10599393
D54: High | E54: =MAX(E46:E52) -> 18.5 | F54: =MAX(F46:F52) -> 19.095676 | G54: =MAX(G46:G52) -> 0.31847134
D55: Low | E55: =MIN(E46:E52) -> 3 | F55: =MIN(F46:F52) -> 3.14 | G55: =MIN(G46:G52) -> 0.052367877
D56: Median | E56: =MEDIAN(E46:E52) -> 6 | F56: =MEDIAN(F46:F52) -> 14.533333 | G56: =MEDIAN(G46:G52) -> 0.068807339
D57: Mean | E57: =AVERAGE(E46:E52) -> 9.3642857 | F57: =AVERAGE(F46:F52) -> 12.601904 | G57: =AVERAGE(G46:G52) -> 0.1086855
E59: Selected | F59: 12.6 | G59: 0.1087

Sheet CAPM
A1: KENTUCKY DEPARTMENT OF REVENUE
A2: DIVISION OF STATE VALUATION, PUBLIC SERVICE BRANCH
A3: 2026 Tax Year
A6: =+'S&D'!A12 -> Electric Wholesale (non-regulated) Power Generator
E7: CAPITAL ASSET PRICING MODEL (CAPM)
E8: YEAR END 12/31/2025
A13: KE = Rf + (B X ERP)
A14: CAPM Models | B14: Equity Risk Premium (ERP) | C14: Industry Beta (B) | D14: Industry Risk Premium | E14: Risk Free Rate (Rf) | F14: Indicated Equity Rate
A16: Three Stage Ex Ante Version 1 (1) (2) | B16: 0.0294 | C16: =+'Beta for CAPM'!H30 -> 1.02 | D16: =+B16*C16 -> 0.029988 | E16: =+'Growth & Inflation Rates'!$G$24 -> 0.0481 | F16: =+D16+E16 -> 0.078088
A17: Three Stage Ex Ante Version 2 (1) (2) | B17: 0.0298 | C17: =+C16 -> 1.02 | D17: =+B17*C17 -> 0.030396 | E17: =+'Growth & Inflation Rates'!$G$24 -> 0.0481 | F17: =+D17+E17 -> 0.078496
A19: Damodaran Implied ERP Ex Ante Trailing 12 mo Cash Yield (3) | B19: 0.0423 | C19: =+C16 -> 1.02 | D19: =+B19*C19 -> 0.043146 | E19: =+'Growth & Inflation Rates'!$G$24 -> 0.0481 | F19: =+D19+E19 -> 0.091246
A20: Damodaran Implied ERP Ex Ante Avg CF Yield Last 10 Yrs (3) | B20: 0.0618 | C20: =+C16 -> 1.02 | D20: =+B20*C20 -> 0.063036 | E20: =+'Growth & Inflation Rates'!$G$24 -> 0.0481 | F20: =+D20+E20 -> 0.111136
A21: Damodaran Implied ERP Ex Ante Net Cash Yield (3) | B21: 0.0396 | C21: =+C16 -> 1.02 | D21: =+B21*C21 -> 0.040392 | E21: =+'Growth & Inflation Rates'!$G$24 -> 0.0481 | F21: =+D21+E21 -> 0.088492
A22: Damodaran Implied ERP Ex Ante Norm. Earnings & Payout (3) | B22: 0.0362 | C22: =+C16 -> 1.02 | D22: =+B22*C22 -> 0.036924 | E22: =+'Growth & Inflation Rates'!$G$24 -> 0.0481 | F22: =+D22+E22 -> 0.085024
A24: The CFO Survey (4) | B24: 0.0561 | C24: =+C16 -> 1.02 | D24: =+B24*C24 -> 0.057222 | E24: =+'Growth & Inflation Rates'!$G$24 -> 0.0481 | F24: =+D24+E24 -> 0.105322
A26: P. Fernandez, T. Garcia de Santos & J.F.Acin (5) | B26: 0.055 | C26: =+C16 -> 1.02 | D26: =+B26*C26 -> 0.0561 | E26: =+'Growth & Inflation Rates'!$G$24 -> 0.0481 | F26: =+D26+E26 -> 0.1042
A28: BVR - Historical, Arithmetic Mean (6) | B28: 0.0678 | C28: =+C16 -> 1.02 | D28: =+B28*C28 -> 0.069156 | E28: =+'Growth & Inflation Rates'!$G$24 -> 0.0481 | F28: =+D28+E28 -> 0.117256
A29: BVR - Historical, Geometric Mean (7) | B29: 0.0554 | C29: =+C16 -> 1.02 | D29: =+B29*C29 -> 0.056508 | E29: =+'Growth & Inflation Rates'!$G$24 -> 0.0481 | F29: =+D29+E29 -> 0.104608
A31: KROLL Ex Post - ERP Historical (8) | B31: 0.0737 | C31: =+C16 -> 1.02 | D31: =+B31*C31 -> 0.075174 | E31: =+'Growth & Inflation Rates'!$G$24 -> 0.0481 | F31: =+D31+E31 -> 0.123274
A32: KROLL Ex Post - ERP Supply Side (8) | B32: 0.0631 | C32: =+C17 -> 1.02 | D32: =+B32*C32 -> 0.064362 | E32: =+'Growth & Inflation Rates'!$G$24 -> 0.0481 | F32: =+D32+E32 -> 0.112462
A33: KROLL Ex Ante - ERP Conditional (8) | B33: 0.05 | C33: =+C16 -> 1.02 | D33: =+B33*C33 -> 0.051 | E33: =+'Growth & Inflation Rates'!$G$24 -> 0.0481 | F33: =+D33+E33 -> 0.0991
A39: KE = Rf + (B X ERP X 75%) = (ERP X 25%)
A40: Empirical CAPM Models | B40: Equity Risk Premium (ERP) | C40: Industry Beta (B) | D40: Weighted Industry Risk Premium (75%) | E40: Weighted Equity Risk Premium (25%) | F40: Risk Free Rate (Rf) | G40: Indicated Equity Rate
A42: Three Stage Ex Ante Version 1 (1) (2) | B42: =+B16 -> 0.0294 | C42: =+C16 -> 1.02 | D42: =+B42*C42*0.75 -> 0.022491 | E42: =+B42*0.25 -> 0.00735 | F42: =+'Growth & Inflation Rates'!$G$24 -> 0.0481 | G42: =+D42+E42+F42 -> 0.077941
A43: Three Stage Ex Ante Version 2 (1) (2) | B43: =+B17 -> 0.0298 | C43: =+C17 -> 1.02 | D43: =+B43*C43*0.75 -> 0.022797 | E43: =+B43*0.25 -> 0.00745 | F43: =+'Growth & Inflation Rates'!$G$24 -> 0.0481 | G43: =+D43+E43+F43 -> 0.078347
A45: =+A19 -> Damodaran Implied ERP Ex Ante Trailing 12 mo Cash Yield (3) | B45: =+B19 -> 0.0423 | C45: =+C19 -> 1.02 | D45: =+B45*C45*0.75 -> 0.0323595 | E45: =+B45*0.25 -> 0.010575 | F45: =+'Growth & Inflation Rates'!$G$24 -> 0.0481 | G45: =+D45+E45+F45 -> 0.0910345
A46: Damodaran Implied ERP Ex Ante Avg CF Yield Last 10 Yrs (3) | B46: =+B20 -> 0.0618 | C46: =+C20 -> 1.02 | D46: =+B46*C46*0.75 -> 0.047277 | E46: =+B46*0.25 -> 0.01545 | F46: =+'Growth & Inflation Rates'!$G$24 -> 0.0481 | G46: =+D46+E46+F46 -> 0.110827
A47: =+A21 -> Damodaran Implied ERP Ex Ante Net Cash Yield (3) | B47: =+B21 -> 0.0396 | C47: =+C21 -> 1.02 | D47: =+B47*C47*0.75 -> 0.030294 | E47: =+B47*0.25 -> 0.0099 | F47: =+'Growth & Inflation Rates'!$G$24 -> 0.0481 | G47: =+D47+E47+F47 -> 0.088294
A48: =+A22 -> Damodaran Implied ERP Ex Ante Norm. Earnings & Payout (3) | B48: =+B22 -> 0.0362 | C48: =+C22 -> 1.02 | D48: =+B48*C48*0.75 -> 0.027693 | E48: =+B48*0.25 -> 0.00905 | F48: =+'Growth & Inflation Rates'!$G$24 -> 0.0481 | G48: =+D48+E48+F48 -> 0.084843
A50: The CFO Survey (4) | B50: =+B24 -> 0.0561 | C50: =+C24 -> 1.02 | D50: =+B50*C50*0.75 -> 0.0429165 | E50: =+B50*0.25 -> 0.014025 | F50: =+'Growth & Inflation Rates'!$G$24 -> 0.0481 | G50: =+D50+E50+F50 -> 0.1050415
A52: P. Fernandez, T. Garcia de Santos & J.F.Acin (5) | B52: =+B26 -> 0.055 | C52: =+C26 -> 1.02 | D52: =+B52*C52*0.75 -> 0.042075 | E52: =+B52*0.25 -> 0.01375 | F52: =+'Growth & Inflation Rates'!$G$24 -> 0.0481 | G52: =+D52+E52+F52 -> 0.103925
A54: BVR - Historical, Arithmetic Mean (6) | B54: =+B28 -> 0.0678 | C54: =+C28 -> 1.02 | D54: =+B54*C54*0.75 -> 0.051867 | E54: =+B54*0.25 -> 0.01695 | F54: =+'Growth & Inflation Rates'!$G$24 -> 0.0481 | G54: =+D54+E54+F54 -> 0.116917
A55: BVR - Historical, Geometric Mean (7) | B55: =+B29 -> 0.0554 | C55: =+C29 -> 1.02 | D55: =+B55*C55*0.75 -> 0.042381 | E55: =+B55*0.25 -> 0.01385 | F55: =+'Growth & Inflation Rates'!$G$24 -> 0.0481 | G55: =+D55+E55+F55 -> 0.104331
A57: KROLL Ex Post - ERP Historical (8) | B57: =+B31 -> 0.0737 | C57: =+C31 -> 1.02 | D57: =+B57*C57*0.75 -> 0.0563805 | E57: =+B57*0.25 -> 0.018425 | F57: =+'Growth & Inflation Rates'!$G$24 -> 0.0481 | G57: =+D57+E57+F57 -> 0.1229055
A58: KROLL Ex Post - ERP Supply Side (8) | B58: =+B32 -> 0.0631 | C58: =+C32 -> 1.02 | D58: =+B58*C58*0.75 -> 0.0482715 | E58: =+B58*0.25 -> 0.015775 | F58: =+'Growth & Inflation Rates'!$G$24 -> 0.0481 | G58: =+D58+E58+F58 -> 0.1121465
A59: KROLL Ex Ante - ERP Conditional (8) | B59: =+B33 -> 0.05 | C59: =+C33 -> 1.02 | D59: =+B59*C59*0.75 -> 0.03825 | E59: =+B59*0.25 -> 0.0125 | F59: =+'Growth & Inflation Rates'!$G$24 -> 0.0481 | G59: =+D59+E59+F59 -> 0.09885
A64: Notes:
A66: (1) Three Stage Dividend Growth Model, S&P 500. The Three Stage Ex Ante calculations were performed by Montana. The Equity risk premiums are shown above.
A67: (2) Three Stage Dividend Growth Model, S&P 500. The Three Stage Ex Ante calculations were performed by Minnesota. The Equity risk premiums are shown above.
A69: (3) Implied Equity Risk Premium on January 2, 2026 as determined by Dr. Aswath Damodaran
...

Sheet Growth & Inflation Rates
A1: KENTUCKY DEPARTMENT OF REVENUE
A2: DIVISION OF STATE VALUATION, PUBLIC SERVICE BRANCH
A3: 2026 Tax Year
A7: =+'S&D'!A12 -> Electric Wholesale (non-regulated) Power Generator | E7: GROWTH & INFLATION RATES
E8: YEAR END 12/31/2025
A11: SHORT-TERM GROWTH RATES (5 years)
B13: Zacks Investment Research | C13: CFRA S&P Net Advantage | D13: Value Line Earnings | E13: Value Line Dividends | F13: KY DOR Dividends Growth Rate (Median / Average) | G13: KY DOR Earnings Growth Rate (Median / Average) | H13: Yahoo Finance
A15: =+A7 -> Electric Wholesale (non-regulated) Power Generator | F15: =+'Dividends '!K26 -> 0.082171765 | G15: =+Earnings!K26 -> 0.08476818
F16: =+'Dividends '!K27 -> 0.069303645 | G16: =+Earnings!K27 -> 0.097303431
A18: RISK FREE RATE (Rf)
D19: RISK FREE RATE (Rf)
C20: Federal Reserve Statistical Release (January 2, 2026) Treasury Constant Maturities, Nominal (1) :
C21: 10-year U.S. Treasury coupon bonds | D21: 0.0419
C22: 20-year U.S. Treasury coupon bonds | D22: 0.0481
C23: 30-year U.S. Treasury coupon bonds | D23: 0.0486 | G23: KDOR Selected Risk Free Rate (Rf) >
C24: Value Line Investment Survey (January 10, 2026) Selected Yields on Taxable U.S. Treasury Securities : | G24: 0.0481
C25: 10-year U.S. Treasury coupon bonds | D25: 0.0412
C26: 20-year U.S. Treasury coupon bonds | D26: 0
C27: 30-year U.S. Treasury coupon bonds | D27: 0.0483
C28: Damodaran selected Risk-Free rate (January 1, 2026) (7) : | D28: 0.0418
C29: KROLL Cost of Capital Navigator Risk-Free rate Ex Post (January 1, 2026) : | D29: 0.0479
E31: Inflation and Gross Domestic Product (GDP) Data
E32: YEAR END 12/31/2025
A33: INFLATION (CPI) & GROSS DOMESTIC PRODUCT (GDP)
D35: Inflation | E35: Real LT Growth | F35: Nominal
A36: Source | D36: CPI | E36: GDP | F36: Growth
A38: Federal Reserve Statistical Release 10 Yr Inflation protected Treasury securities (1) | D38: 0.0225 | E38: na | F38: na
A39: Federal Reserve Statistical Release 20 Yr Inflation protected Treasury securities (1) | D39: 0.0242 | E39: na | F39: na
A40: Federal Reserve Statistical Release 30 Yr Inflation protected Treasury securities (1) | D40: 0.0223 | E40: na | F40: na
A41: Federal Reserve Bank of Philadelphia / Livingston Survey Mean (2) | D41: 0.0229 | E41: 0.0201 | F41: =+D41+E41 -> 0.043
A42: Federal Reserve Bank of Philadelphia / Livingston Survey Median (2a) | D42: 0.024 | E42: 0.02 | F42: =+D42+E42 -> 0.044
A43: Federal Reserve Bank of Philadelphia /Survey of Professional Forecasters Mean (2b) | D43: 0.0234 | E43: 0.021 | F43: =+D43+E43 -> 0.0444
A44: Congressional Budget Office Real Economic Projections (3) | D44: 0.023 | E44: 0.018 | F44: =+D44+E44 -> 0.041
A45: Congressional Budget Office Real Economic Projections (3a) | D45: 0.023 | E45: 0.021 | F45: =+D45+E45 -> 0.044
A46: Congressional Budget Office Real Economic Projections (3b) | D46: 0.023 | E46: 0.019 | F46: =+D46+E46 -> 0.042
A47: The Trading Economics (4) | D47: 0.023 | E47: 0.021 | F47: =+D47+E47 -> 0.044
A48: The World Bank (5) | D48: na | E48: 0.022 | F48: na
A49: Federal Reserve Bank "Long Term" Projection - Members & Presidents opinion (6) | D49: 0.02 | E49: 0.018 | F49: =+D49+E49 -> 0.038
C50: High | D50: =MAX(D38:D49) -> 0.0242 | E50: =MAX(E38:E49) -> 0.022 | F50: =MAX(F38:F49) -> 0.0444
C51: Low | D51: =MIN(D38:D49) -> 0.02 | E51: =MIN(E38:E49) -> 0.018 | F51: =MIN(F38:F49) -> 0.038
...

Sheet Indicated Yield Equity Rate 
A1: KENTUCKY DEPARTMENT OF REVENUE
A2: DIVISION OF STATE VALUATION, PUBLIC SERVICE BRANCH
A3: 2025 Tax Year
A6: =+'S&D'!A12 -> Electric Wholesale (non-regulated) Power Generator
C9: EQUITY RATES for YIELD APPROACH
C10: YEAR END 12/31/2024
D13: Kentucky
C14: MODEL | D14: YIELD EQUITY RATE
C15: CAPM - Ex Ante, Three Stage - V1 | D15: =+CAPM!F16 -> 0.078088
C16: CAPM - Ex Ante, Three Stage - V2 | D16: =+CAPM!F17 -> 0.078496
C17: CAPM - Ex Ante Damodaran 12 Mo Cash Yield | D17: =+CAPM!F19 -> 0.091246
C18: CAPM - Ex Ante Damodaran Avg CF Yield Last 10 Yrs | D18: =+CAPM!F20 -> 0.111136
C19: CAPM - Ex Ante Damodaran Net Cash Yield | D19: =+CAPM!F21 -> 0.088492
C20: CAPM - Ex Ante Damodaran NEP | D20: =+CAPM!F22 -> 0.085024
C21: CAPM - The CFO Survey | D21: =+CAPM!F24 -> 0.105322
C22: CAPM - Fernandez, Banuls, & Acin | D22: =+CAPM!F26 -> 0.1042
C23: CAPM - Ex Post (BVR Historical, Arithmeic) | D23: =+CAPM!F28 -> 0.117256
C24: CAPM - Ex Post (BVR Historical, Geometric) | D24: =+CAPM!F29 -> 0.104608
C25: CAPM - Ex Post KROLL ERP Historical | D25: =+CAPM!F31 -> 0.123274
C26: CAPM - Ex Post KROLL ERP Supply Side | D26: =+CAPM!F32 -> 0.112462
C27: CAPM - Ex Ante KROLL ERP Conditional | D27: =+CAPM!F33 -> 0.0991
C28: Empirical CAPM - Ex Ante, Three Stage - V1 | D28: =+CAPM!G42 -> 0.077941
C29: Empirical CAPM - Ex Ante, Three Stage - V2 | D29: =+CAPM!G43 -> 0.078347
C30: Empirical CAPM - Ex Ante Damodaran 12 Mo Cash Yield | D30: =+CAPM!G45 -> 0.0910345
C31: Empirical CAPM - Ex Ante Damodaran Avg CF Yield Last 10 Yrs | D31: =+CAPM!G46 -> 0.110827
C32: Empirical CAPM - Ex Ante Damodaran Net Cash Yield | D32: =+CAPM!G47 -> 0.088294
C33: Empirical CAPM - Ex Ante Damodaran NEP | D33: =+CAPM!G48 -> 0.084843
C34: Empirical CAPM - The CFO Survey | D34: =+CAPM!G50 -> 0.1050415
C35: Empirical CAPM - Fernandez, Banuls, & Acin | D35: =+CAPM!G52 -> 0.103925
C36: Empirical CAPM - Ex Post (BVR Historical, Arithmeic) | D36: =+CAPM!G54 -> 0.116917
C37: Empirical CAPM - Ex Post (BVR Historical, Geometric) | D37: =+CAPM!G55 -> 0.104331
C38: Empirical CAPM - Ex Post KROLL ERP Historical | D38: =+CAPM!G57 -> 0.1229055
C39: Empirical CAPM - Ex Post KROLL ERP Supply Side | D39: =+CAPM!G58 -> 0.1121465
C40: Empirical CAPM - Ex Ante KROLL ERP Conditional | D40: =+CAPM!G59 -> 0.09885
C41: DGM - Single Stage - Dividend Growth | D41: =+'Single Stage Div Growth Model'!I30 -> 0.1002
C42: DGM - Single Stage - Earnings Growth | D42: =+'Single Stage Div Growth Model'!I32 -> 0.2052
C43: DGM - Two Stage - Dividend Growth | D43: =+'Two-Stage Dividend Growth Model'!H34 -> 0.1635
C44: P/E Ratio - Long Term Projection NOPAT | D44: =+'Direct NOPAT'!G59 -> 0.1087
C46: High | D46: =MAX(D15:D43) -> 0.2052
C47: Low | D47: =MIN(D15:D43) -> 0.077941
...

Sheet Single Stage Div Growth Model
A1: KENTUCKY DEPARTMENT OF REVENUE
A2: DIVISION OF STATE VALUATION, PUBLIC SERVICE BRANCH
A3: 2026 Tax Year
A6: =+'S&D'!A12 -> Electric Wholesale (non-regulated) Power Generator
F7: Yield Equity Rate - DGM (Dividend Growth) & DGM (Earnings Growth) -- Gordon Growth
F8: YEAR END 12/31/2025
B10: Ticker | C10: Industry | D10: Stock | E10: Common Stock | F10: Dividend Yield | G10: Projected Short Term | H10: Projected Short Term | I10: Equity Rate | J10: Equity Rate
A11: Company | B11: Symbol | C11: Group | D11: Price (P0) | E11: FMV | F11: Projected | G11: Dividend Growth Rate | H11: Earnings Per Share Growth Rate | I11: Dividend | J11: Earnings
G12: Estimated 23-25 to 29-31 | H12: Estimated 23-25 to 29-31
B13: B | C13: C | D13: D | E13: E | F13: F | G13: G | H13: H | I13: (F+G) | J13: (F+H)
A14: VL | B14: VL | C14: VL | D14: Year End | F14: VL | G14: VL | H14: VL
A17: =+'S&D'!A22 -> AES CORPORATION | B17: =+'S&D'!B22 -> AES | C17: =+'S&D'!C22 -> Power Electric | D17: =+'S&D'!G22 -> 9.42 | E17: =+'S&D'!D38 -> 6.7089407e+09 | F17: =+'Dividends '!H16 -> 0.076433121 | G17: 0.04 | H17: 0.3 | I17: =+F17+G17 -> 0.11643312 | J17: =+F17+H17 -> 0.37643312
A18: =+'S&D'!A23 -> DOMINION ENERGY INC | B18: =+'S&D'!B23 -> D | C18: =+'S&D'!C23 -> Electric - East | D18: =+'S&D'!G23 -> 58.59 | E18: =+'S&D'!D39 -> 51500610000 | F18: =+'Dividends '!H17 -> 0.045570917 | G18: 0.005 | H18: 0.065 | I18: =+F18+G18 -> 0.050570917 | J18: =+F18+H18 -> 0.11057092
A19: =+'S&D'!A24 -> CONSTELLATION ENERGY GENERATION LLC | B19: =+'S&D'!B24 -> CEG | C19: =+'S&D'!C24 -> Power Electric | D19: =+'S&D'!G24 -> 353.27 | E19: =+'S&D'!D40 -> 110220240000 | F19: =+'Dividends '!H18 -> 0.0053217086 | G19: 0.135 | H19: 0.19 | I19: =+F19+G19 -> 0.14032171 | J19: =+F19+H19 -> 0.19532171
A20: =+'S&D'!A25 -> NEXTERA ENERGY INC | B20: =+'S&D'!B25 -> NEE | C20: =+'S&D'!C25 -> Electric - East | D20: =+'S&D'!G25 -> 80.28 | E20: =+'S&D'!D41 -> 165135960000 | F20: =+'Dividends '!H19 -> 0.034130543 | G20: 0.09 | H20: 0.08 | I20: =+F20+G20 -> 0.12413054 | J20: =+F20+H20 -> 0.11413054
A21: =+'S&D'!A26 -> NRG ENERGY | B21: =+'S&D'!B26 -> NRG | C21: =+'S&D'!C26 -> Power Electric | D21: =+'S&D'!G26 -> 159.24 | E21: =+'S&D'!D42 -> 3.0315571e+10 | F21: =+'Dividends '!H20 -> 0.012685255 | G21: 0.08 | H21: 0.2 | I21: =+F21+G21 -> 0.092685255 | J21: =+F21+H21 -> 0.21268525
A22: =+'S&D'!A27 -> SOUTHERN COMPANY | B22: =+'S&D'!B27 -> SO | C22: =+'S&D'!C27 -> Electric - East | D22: =+'S&D'!G27 -> 87.2 | E22: =+'S&D'!D43 -> 95832800000 | F22: =+'Dividends '!H21 -> 0.036009174 | G22: 0.035 | H22: 0.065 | I22: =+F22+G22 -> 0.071009174 | J22: =+F22+H22 -> 0.10100917
A23: =+'S&D'!A28 -> VISTRA ENERGY CORPORATION | B23: =+'S&D'!B28 -> VST | C23: =+'S&D'!C28 -> Power Electric | D23: =+'S&D'!G28 -> 161.33 | E23: =+'S&D'!D44 -> 5.4539161e+10 | F23: =+'Dividends '!H22 -> 0.0061984752 | G23: 0.1 | H23: 0.32 | I23: =+F23+G23 -> 0.10619848 | J23: =+F23+H23 -> 0.32619848
E24: High | F24: =MAX(F17:F23) -> 0.076433121 | G24: =MAX(G17:G23) -> 0.135 | H24: =MAX(H17:H23) -> 0.32 | I24: =MAX(I17:I23) -> 0.14032171 | J24: =MAX(J17:J23) -> 0.37643312
E25: Low | F25: =MIN(F17:F23) -> 0.0053217086 | G25: =MIN(G17:G23) -> 0.005 | H25: =MIN(H17:H23) -> 0.065 | I25: =MIN(I17:I23) -> 0.050570917 | J25: =MIN(J17:J23) -> 0.10100917
E26: Median | F26: =MEDIAN(F17:F23) -> 0.034130543 | G26: =MEDIAN(G17:G23) -> 0.08 | H26: =MEDIAN(H17:H23) -> 0.19 | I26: =MEDIAN(I17:I23) -> 0.10619848 | J26: =MEDIAN(J17:J23) -> 0.19532171
E27: Mean | F27: =AVERAGE(F17:F23) -> 0.030907028 | G27: =AVERAGE(G17:G23) -> 0.069285714 | H27: =AVERAGE(H17:H23) -> 0.17428571 | I27: =AVERAGE(I17:I23) -> 0.10019274 | J27: =AVERAGE(J17:J23) -> 0.20519274
G30: DGM - Dividend Growth Rate > | I30: 0.1002
